Workbook

Sheet Summary
B2: SUMMARY
B14: DATE | D14: PROJECT NAME | E14: =Concrete!J15 -> PROJECT LOCATION
B18: LINE NO. | C18: CSI DIV. | D18: DESCRIPTION | E18: MATERIAL COST | F18: LABOR COST | G18: TOTAL COST
B20: =IF(G20<>"",1+MAX($B$18:B19),"") | D20: BASE BID
B21: =IF(G21<>"",1+MAX($B$18:B20),"") -> 1 | D21: BUILDING CONCRETE | E21: =Concrete!R5+(Concrete!R5*(Concrete!$Q$8+Concrete!$Q$10+Concrete!$Q$12))+(Concrete!$Q$11*(Concrete!R5+Concrete!R5*Concrete!$Q$8+Concrete!R5*Concrete!$Q$10)) -> 466625.37 | F21: =Concrete!R6+(Concrete!R6*(Concrete!$Q$9+Concrete!$Q$10+Concrete!$Q$12))+(Concrete!$Q$11*(Concrete!R6+Concrete!R6*Concrete!$Q$9+Concrete!R6*Concrete!$Q$10)) -> 623536.17 | G21: =Concrete!R13 -> 1090161.5
B22: =IF(G22<>"",1+MAX($B$18:B21),"") -> 2 | D22: SITE WORK | E22: ='Site Work'!R5+('Site Work'!R5*('Site Work'!$Q$8+'Site Work'!$Q$10+'Site Work'!$Q$12))+('Site Work'!$Q$11*('Site Work'!R5+'Site Work'!R5*'Site Work'!$Q$8+'Site Work'!R5*'Site Work'!$Q$10)) -> 175083.63 | F22: ='Site Work'!R6+('Site Work'!R6*('Site Work'!$Q$9+'Site Work'!$Q$10+'Site Work'!$Q$12))+('Site Work'!$Q$11*('Site Work'!R6+'Site Work'!R6*'Site Work'!$Q$9+'Site Work'!R6*'Site Work'!$Q$10)) -> 742225.95 | G22: ='Site Work'!R13 -> 917309.58
B23: =IF(G23<>"",1+MAX($B$18:B22),"")
D24: TOTAL PROJECT COST | G24: =SUM(G21:G23) -> 2007471.1
B26: =IF(G26<>"",1+MAX($B$18:B25),"") | D26: ALTERNATE
B27: =IF(G27<>"",1+MAX($B$18:B26),"")
B28: =IF(G28<>"",1+MAX($B$20:B27),"") -> 3 | D28: ALTERNATE #1 | E28: ='Site Work'!I198 -> 0 | F28: 4686.575 | G28: ='Site Work'!R198 -> 4686.575
B29: =IF(C29<>"",1+MAX($B$18:B24),"")

Sheet Concrete
B2: CONSTRUCTION COST ESTIMATE BREAKDOWN | T2: 0.9 | U2: 1.34
B3: CONTRACTOR | I3: ADDRESS
I5: TOTAL MATERIAL COST | R5: =SUM(I22:I110) -> 336003.87
I6: TOTAL LABOR COST | R6: =SUM(P22:P110) -> 436955.97
I7: SUBTOTAL | R7: =SUM(R5:R6) -> 772959.84
I8: SALES TAX | Q8: 0.0625 | R8: =R5*Q8 -> 21000.242
I9: LABOR BURDEN | Q9: 0.1 | R9: =R6*Q9 -> 43695.597
I10: OVERHEAD & PROFIT | Q10: 0.25 | R10: =R7*Q10 -> 193239.96
I11: BONDING | Q11: 0.02 | R11: =SUM(R7:R10)*Q11 -> 20617.913
I12: CONTINGENCY / WASTAGE | Q12: 0.05 | R12: =R7*Q12 -> 38647.992
I13: PROPOSED PROJECT AMOUNT | R13: =SUM(R7:R12) -> 1090161.5
I14: TOTAL MANHOURS | R14: =SUM(K22:K110) -> 5588.9847
B15: DATE | D15: PROJECT NAME | E15: SCOPE OF WORK | J15: PROJECT LOCATION
B18: LINE NO. | C18: DWG REF./ CSI SEC. | D18: ITEM DESCRIPTION | E18: UNIT OF MEASURE | F18: QUANTITY | G18: MATERIAL | J18: LABOR | Q18: LINE TOTAL | R18: TRADE TOTAL W/ S.TAX, O&P
G19: UNIT PRICE | H19: UNIT PRICE | I19: TOTAL COST | J19: UNIT LABOR HOUR | K19: LABOR HOURS | L19: CREW | M19: LABOR RATE | N19: LABOR RATE | O19: UNIT PRICE | P19: TOTAL COST
B20: =IF(F20<>"",1+MAX($B$19:B19),"")
B21: =IF(F21<>"",1+MAX($B$2:B20),"") | C21: DIV. 01 | D21: GENERAL REQUIREMENTS | E21: SUBTOTAL MATERIAL | H21: =SUM(I22:I24) -> 0 | I21: =F21*H21 -> 0 | K21: SUBTOTAL LABOR | O21: =SUM(P22:P24) -> 60000 | P21: =F21*O21 -> 0 | Q21: =SUM(Q22:Q24) -> 60000 | R21: =(Q21)+(H21*$Q$8)+(O21*$Q$9)+(Q21*$Q$10)+($Q$11*((Q21)+(H21*$Q$8)+(O21*$Q$9)+(Q21*$Q$10)))+(Q21*$Q$12) -> 85620
B22: =IF(F22<>"",1+MAX($B20:B$24),"") | H22: =G22*$T$2 -> 0 | I22: =F22*H22 -> 0 | K22: =F22*J22 -> 0 | N22: =M22*$U$2 -> 0 | O22: =J22*N22 -> 0 | P22: =F22*O22 -> 0 | Q22: =I22+P22 -> 0
B23: =IF(F23<>"",1+MAX($B$22:B22),"") -> 1 | D23: PERMITS, SITE SUPERVISION, FINAL CLEANUP & DUMPSTER | E23: LS | F23: 1 | H23: =G23*$T$2 -> 0 | I23: =F23*H23 -> 0 | K23: =F23*J23 -> 0 | N23: =M23*$U$2 -> 0 | O23: 60000 | P23: =F23*O23 -> 60000 | Q23: =I23+P23 -> 60000
B24: =IF(F24<>"",1+MAX($B$22:B23),"") | H24: =G24*$T$2 -> 0 | I24: =F24*H24 -> 0 | K24: =F24*J24 -> 0 | N24: =M24*$U$2 -> 0 | O24: =J24*N24 -> 0 | P24: =F24*O24 -> 0 | Q24: =I24+P24 -> 0
B25: =IF(F25<>"",1+MAX($B$22:B24),"") | C25: DIV. 03 | D25: CONCRETE | E25: SUBTOTAL MATERIAL | H25: =SUM(I26:I110) -> 336003.87 | I25: =F25*H25 -> 0 | K25: SUBTOTAL LABOR | O25: =SUM(P26:P110) -> 376955.97 | P25: =F25*O25 -> 0 | Q25: =SUM(Q26:Q110) -> 712959.84 | R25: =(Q25)+(H25*$Q$8)+(O25*$Q$9)+(Q25*$Q$10)+($Q$11*((Q25)+(H25*$Q$8)+(O25*$Q$9)+(Q25*$Q$10)))+(Q25*$Q$12) -> 1004541.5
B26: =IF(F26<>"",1+MAX($B$22:B25),"") | H26: =G26*$T$2 -> 0 | I26: =F26*H26 -> 0 | K26: =F26*J26 -> 0 | N26: =M26*$U$2 -> 0 | O26: =J26*N26 -> 0 | P26: =F26*O26 -> 0 | Q26: =I26+P26 -> 0
B27: =IF(F27<>"",1+MAX($B$22:B26),"") | D27: SLAB ON GRADE | H27: =G27*$T$2 -> 0 | I27: =F27*H27 -> 0 | K27: =F27*J27 -> 0 | N27: =M27*$U$2 -> 0 | O27: =J27*N27 -> 0 | P27: =F27*O27 -> 0 | Q27: =I27+P27 -> 0
B28: =IF(F28<>"",1+MAX($B$22:B27),"") -> 2 | C28: S100, S200 | D28: 4" THK. NORMAL WEIGHT CONCRETE SLAB ON GRADE OVER 10 MIL POLYETHYLENE VAPOR BARRIER, REINFORCED W/ 6x6 W2.9xW2.9 W.W.F. AT MID DEPTH | E28: SF | F28: 562.57 | G28: 2.09013 | H28: =G28*$T$2 -> 1.881117 | I28: =F28*H28 -> 1058.26 | J28: 0.067744 | K28: =F28*J28 -> 38.110742 | L28: C14G | M28: 47.35 | N28: =M28*$U$2 -> 63.449 | O28: =J28*N28 -> 4.2982891 | P28: =F28*O28 -> 2418.0885 | Q28: =I28+P28 -> 3476.3485
B29: =IF(F29<>"",1+MAX($B$22:B28),"") -> 3 | D29: 12" THK. SLAB ON GRADE W/ #4 BARS @ 12" O.C. EACHWAY | E29: SF | F29: 38.46 | G29: 5.83222 | H29: =G29*$T$2 -> 5.248998 | I29: =F29*H29 -> 201.87646 | J29: 0.076111 | K29: =F29*J29 -> 2.9272291 | L29: C14G | M29: 47.35 | N29: =M29*$U$2 -> 63.449 | O29: =J29*N29 -> 4.8291668 | P29: =F29*O29 -> 185.72976 | Q29: =I29+P29 -> 387.60622
B30: =IF(F30<>"",1+MAX($B$22:B29),"") -> 4 | D30: 28" MAT SLAB REINFORCEMENT W/ #5 @12" TOP & BOTTOM INNER AND OUTER LAYER | E30: SF | F30: 11748.75 | G30: 12.84498 | H30: =G30*$T$2 -> 11.560482 | I30: =F30*H30 -> 135821.21 | J30: 0.169645 | K30: =F30*J30 -> 1993.1167 | L30: C14G | M30: 47.35 | N30: =M30*$U$2 -> 63.449 | O30: =J30*N30 -> 10.763806 | P30: =F30*O30 -> 126461.26 | Q30: =I30+P30 -> 262282.47
B31: =IF(F31<>"",1+MAX($B$22:B30),"") -> 5 | D31: 12" THK. ELEVATOR MAT SLAB REINFORCEMENT W/ #5 @12" O.C. TOP & BOTTOM INNER LAYER | E31: SF | F31: 89.9 | G31: 5.83222 | H31: =G31*$T$2 -> 5.248998 | I31: =F31*H31 -> 471.88492 | J31: 0.076111 | K31: =F31*J31 -> 6.8423789 | L31: C14G | M31: 47.35 | N31: =M31*$U$2 -> 63.449 | O31: =J31*N31 -> 4.8291668 | P31: =F31*O31 -> 434.1421 | Q31: =I31+P31 -> 906.02702
B32: =IF(F32<>"",1+MAX($B$22:B31),"") -> 6 | D32: 8" THK. ELEVATOR PIT SLAB REINFORCEMENT W/ #5 @12" O.C. TOP & BOTTOM INNER LAYER | E32: SF | F32: =2*2 -> 4 | G32: 4.04379 | H32: =G32*$T$2 -> 3.639411 | I32: =F32*H32 -> 14.557644 | J32: 0.074277 | K32: =F32*J32 -> 0.297108 | L32: C14G | M32: 47.35 | N32: =M32*$U$2 -> 63.449 | O32: =J32*N32 -> 4.7128014 | P32: =F32*O32 -> 18.851205 | Q32: =I32+P32 -> 33.408849
B33: =IF(F33<>"",1+MAX($B$22:B32),"") | H33: =G33*$T$2 -> 0 | I33: =F33*H33 -> 0 | K33: =F33*J33 -> 0 | N33: =M33*$U$2 -> 0 | O33: =J33*N33 -> 0 | P33: =F33*O33 -> 0 | Q33: =I33+P33 -> 0
B34: =IF(F34<>"",1+MAX($B$22:B33),"") | D34: CONTROL JOINTS | H34: =G34*$T$2 -> 0 | I34: =F34*H34 -> 0 | K34: =F34*J34 -> 0 | N34: =M34*$U$2 -> 0 | O34: =J34*N34 -> 0 | P34: =F34*O34 -> 0 | Q34: =I34+P34 -> 0
B35: =IF(F35<>"",1+MAX($B$22:B34),"") -> 7 | C35: S200 | D35: CONTROL JOINTS AT SLAB ON GRADE | E35: LF | F35: 57 | G35: 0.94 | H35: =G35*$T$2 -> 0.846 | I35: =F35*H35 -> 48.222 | J35: 0.04 | K35: =F35*J35 -> 2.28 | L35: 1 CARP | M35: 53.15 | N35: =M35*$U$2 -> 71.221 | O35: =J35*N35 -> 2.84884 | P35: =F35*O35 -> 162.38388 | Q35: =I35+P35 -> 210.60588
B36: =IF(F36<>"",1+MAX($B$22:B35),"") | H36: =G36*$T$2 -> 0 | I36: =F36*H36 -> 0 | K36: =F36*J36 -> 0 | N36: =M36*$U$2 -> 0 | O36: =J36*N36 -> 0 | P36: =F36*O36 -> 0 | Q36: =I36+P36 -> 0
B37: =IF(F37<>"",1+MAX($B$22:B36),"") | D37: GYPCRETE TOPPING | H37: =G37*$T$2 -> 0 | I37: =F37*H37 -> 0 | K37: =F37*J37 -> 0 | N37: =M37*$U$2 -> 0 | O37: =J37*N37 -> 0 | P37: =F37*O37 -> 0 | Q37: =I37+P37 -> 0
B38: =IF(F38<>"",1+MAX($B$22:B37),"") -> 8 | C38: A102, A105 | D38: 3/4" GYPCRETE UNDERLAYMENT | E38: SF | F38: 38949.27 | G38: 1.12 | H38: =G38*$T$2 -> 1.008 | I38: =F38*H38 -> 39260.864 | J38: 0.02 | K38: =F38*J38 -> 778.9854 | L38: C14B | M38: 54.87 | N38: =M38*$U$2 -> 73.5258 | O38: =J38*N38 -> 1.470516 | P38: =F38*O38 -> 57275.525 | Q38: =I38+P38 -> 96536.389
B39: =IF(F39<>"",1+MAX($B$22:B38),"") -> 9 | D39: 1" GYPCRETE UNDERLAYMENT | E39: SF | F39: 5558.33 | G39: 1.45 | H39: =G39*$T$2 -> 1.305 | I39: =F39*H39 -> 7253.6206 | J39: 0.02 | K39: =F39*J39 -> 111.1666 | L39: C14B | M39: 54.87 | N39: =M39*$U$2 -> 73.5258 | O39: =J39*N39 -> 1.470516 | P39: =F39*O39 -> 8173.6132 | Q39: =I39+P39 -> 15427.234
B40: =IF(F40<>"",1+MAX($B$22:B39),"") -> 10 | D40: 6'-4"W x 1'-0"D x 7"H CONCRETE TOPPING AT METAL STAIRS STEPS: 8 | E40: SF | F40: =8*(6.33*1) -> 50.64 | G40: 4.08 | H40: =G40*$T$2 -> 3.672 | I40: =F40*H40 -> 185.95008 | J40: 0.186 | K40: =F40*J40 -> 9.41904 | L40: C14B | M40: 54.87 | N40: =M40*$U$2 -> 73.5258 | O40: =J40*N40 -> 13.675799 | P40: =F40*O40 -> 692.54245 | Q40: =I40+P40 -> 878.49253
B41: =IF(F41<>"",1+MAX($B$22:B40),"") | H41: =G41*$T$2 -> 0 | I41: =F41*H41 -> 0 | K41: =F41*J41 -> 0 | N41: =M41*$U$2 -> 0 | O41: =J41*N41 -> 0 | P41: =F41*O41 -> 0 | Q41: =I41+P41 -> 0
B42: =IF(F42<>"",1+MAX($B$22:B41),"") | D42: THICKENED EDGE | H42: =G42*$T$2 -> 0 | I42: =F42*H42 -> 0 | K42: =F42*J42 -> 0 | N42: =M42*$U$2 -> 0 | O42: =J42*N42 -> 0 | P42: =F42*O42 -> 0 | Q42: =I42+P42 -> 0
B43: =IF(F43<>"",1+MAX($B$22:B42),"") -> 11 | C43: S100 | D43: CONCRETE THICKENED EDGE W/ #4 BARS @ 12" O.C. | E43: CY | F43: =(7*3.7)/27 -> 0.95925926 | G43: 273.11 | H43: =G43*$T$2 -> 245.799 | I43: =F43*H43 -> 235.78497 | J43: 5.2544952 | K43: =F43*J43 -> 5.0404231 | L43: C14C | M43: 50.61 | N43: =M43*$U$2 -> 67.8174 | O43: =J43*N43 -> 356.3462 | P43: =F43*O43 -> 341.82839 | Q43: =I43+P43 -> 577.61336
B44: =IF(F44<>"",1+MAX($B$22:B43),"") | H44: =G44*$T$2 -> 0 | I44: =F44*H44 -> 0 | K44: =F44*J44 -> 0 | N44: =M44*$U$2 -> 0 | O44: =J44*N44 -> 0 | P44: =F44*O44 -> 0 | Q44: =I44+P44 -> 0
...

Sheet Site Work
B2: CONSTRUCTION COST ESTIMATE BREAKDOWN | T2: =Concrete!T2 -> 0.9 | U2: =Concrete!U2 -> 1.34
B3: CONTRACTOR | I3: ADDRESS
I5: TOTAL MATERIAL COST | R5: =SUM(I22:I192) -> 126072.82
I6: TOTAL LABOR COST | R6: =SUM(P22:P192) -> 520130.31
I7: SUBTOTAL | R7: =SUM(R5:R6) -> 646203.13
I8: SALES TAX | Q8: 0.0625 | R8: =R5*Q8 -> 7879.5511
I9: LABOR BURDEN | Q9: 0.1 | R9: =R6*Q9 -> 52013.031
I10: OVERHEAD & PROFIT | Q10: 0.25 | R10: =R7*Q10 -> 161550.78
I11: BONDING | Q11: 0.02 | R11: =SUM(R7:R10)*Q11 -> 17352.93
I12: CONTINGENCY / WASTAGE | Q12: 0.05 | R12: =R7*Q12 -> 32310.156
I13: PROPOSED PROJECT AMOUNT | R13: =SUM(R7:R12) -> 917309.58
I14: TOTAL MANHOURS | R14: =SUM(K22:K192) -> 7747.1722
B15: DATE | D15: PROJECT NAME | E15: SCOPE OF WORK | J15: PROJECT LOCATION
B18: LINE NO. | C18: DWG REF./ CSI SEC. | D18: ITEM DESCRIPTION | E18: UNIT OF MEASURE | F18: QUANTITY | G18: MATERIAL | J18: LABOR | Q18: LINE TOTAL | R18: TRADE TOTAL W/ S.TAX, O&P
G19: UNIT PRICE | H19: UNIT PRICE | I19: TOTAL COST | J19: UNIT LABOR HOUR | K19: LABOR HOURS | L19: CREW | M19: LABOR RATE | N19: LABOR RATE | O19: UNIT PRICE | P19: TOTAL COST
B20: =IF(F20<>"",1+MAX($B$2:B19),"")
B21: =IF(F21<>"",1+MAX($B$2:B20),"") | C21: DIV. 01 | D21: GENERAL REQUIREMENTS | E21: SUBTOTAL MATERIAL | H21: =SUM(I22:I24) -> 0 | I21: =F21*H21 -> 0 | K21: SUBTOTAL LABOR | O21: =SUM(P22:P24) -> 47500 | P21: =F21*O21 -> 0 | Q21: =SUM(Q22:Q24) -> 47500 | R21: =(Q21)+(H21*$Q$8)+(O21*$Q$9)+(Q21*$Q$10)+($Q$11*((Q21)+(H21*$Q$8)+(O21*$Q$9)+(Q21*$Q$10)))+(Q21*$Q$12) -> 67782.5
B22: =IF(F22<>"",1+MAX($B21:B$22),"") | H22: =G22*$T$2 -> 0 | I22: =F22*H22 -> 0 | K22: =F22*J22 -> 0 | N22: =M22*$U$2 -> 0 | O22: =J22*N22 -> 0 | P22: =F22*O22 -> 0 | Q22: =I22+P22 -> 0
B23: =IF(F23<>"",1+MAX($B$22:B22),"") -> 1 | D23: PERMITS, SITE SUPERVISION, FINAL CLEANUP & DUMPSTER | E23: LS | F23: 1 | H23: =G23*$T$2 -> 0 | I23: =F23*H23 -> 0 | K23: =F23*J23 -> 0 | N23: =M23*$U$2 -> 0 | O23: 47500 | P23: =F23*O23 -> 47500 | Q23: =I23+P23 -> 47500
B24: =IF(F24<>"",1+MAX($B$22:B23),"") | H24: =G24*$T$2 -> 0 | I24: =F24*H24 -> 0 | K24: =F24*J24 -> 0 | N24: =M24*$U$2 -> 0 | O24: =J24*N24 -> 0 | P24: =F24*O24 -> 0 | Q24: =I24+P24 -> 0
B25: =IF(F25<>"",1+MAX($B$22:B24),"") | C25: DIV. 32 | D25: EXTERIOR IMPROVEMENTS | E25: SUBTOTAL MATERIAL | H25: =SUM(I26:I138) -> 103711.74 | I25: =F25*H25 -> 0 | K25: SUBTOTAL LABOR | O25: =SUM(P26:P138) -> 443819.46 | P25: =F25*O25 -> 0 | Q25: =SUM(Q26:Q138) -> 547531.2 | R25: =(Q25)+(H25*$Q$8)+(O25*$Q$9)+(Q25*$Q$10)+($Q$11*((Q25)+(H25*$Q$8)+(O25*$Q$9)+(Q25*$Q$10)))+(Q25*$Q$12) -> 777360.04
B26: =IF(F26<>"",1+MAX($B$22:B25),"") | H26: =G26*$T$2 -> 0 | I26: =F26*H26 -> 0 | K26: =F26*J26 -> 0 | N26: =M26*$U$2 -> 0 | O26: =J26*N26 -> 0 | P26: =F26*O26 -> 0 | Q26: =I26+P26 -> 0
B27: =IF(F27<>"",1+MAX($B$22:B26),"") | D27: BUILDING STONE/GRAVEL | H27: =G27*$T$2 -> 0 | I27: =F27*H27 -> 0 | K27: =F27*J27 -> 0 | N27: =M27*$U$2 -> 0 | O27: =J27*N27 -> 0 | P27: =F27*O27 -> 0 | Q27: =I27+P27 -> 0
B28: =IF(F28<>"",1+MAX($B$22:B27),"") -> 2 | C28: S102 | D28: 12" GRAVEL OR CRUSHED STONE UNDER SLAB ON GRADE OVER FILTER FABRIC | E28: SF | F28: 12440 | G28: 1.15 | H28: =G28*$T$2 -> 1.035 | I28: =F28*H28 -> 12875.4 | J28: 0.022 | K28: =F28*J28 -> 273.68 | L28: 1 CLAB | M28: 42.1 | N28: =M28*$U$2 -> 56.414 | O28: =J28*N28 -> 1.241108 | P28: =F28*O28 -> 15439.384 | Q28: =I28+P28 -> 28314.784
B29: =IF(F29<>"",1+MAX($B$22:B28),"") | H29: =G29*$T$2 -> 0 | I29: =F29*H29 -> 0 | K29: =F29*J29 -> 0 | N29: =M29*$U$2 -> 0 | O29: =J29*N29 -> 0 | P29: =F29*O29 -> 0 | Q29: =I29+P29 -> 0
B30: =IF(F30<>"",1+MAX($B$22:B29),"") | D30: DEMOLITION | H30: =G30*$T$2 -> 0 | I30: =F30*H30 -> 0 | K30: =F30*J30 -> 0 | N30: =M30*$U$2 -> 0 | O30: =J30*N30 -> 0 | P30: =F30*O30 -> 0 | Q30: =I30+P30 -> 0
B31: =IF(F31<>"",1+MAX($B$22:B30),"") -> 3 | C31: C101 | D31: REMOVE EXISITNG CONCRETE CURB | E31: LF | F31: 44.26 | H31: =G31*$T$2 -> 0 | I31: =F31*H31 -> 0 | J31: 0.185 | K31: =F31*J31 -> 8.1881 | L31: 1 CLAB | M31: 42.1 | N31: =M31*$U$2 -> 56.414 | O31: =J31*N31 -> 10.43659 | P31: =F31*O31 -> 461.92347 | Q31: =I31+P31 -> 461.92347
B32: =IF(F32<>"",1+MAX($B$22:B31),"") -> 4 | D32: REMOVE EXISITNG CONCRETE PORCH W/ ASSOCIATED ASSEMBLY | E32: SF | F32: 137 | H32: =G32*$T$2 -> 0 | I32: =F32*H32 -> 0 | J32: 0.025 | K32: =F32*J32 -> 3.425 | L32: 1 CLAB | M32: 42.1 | N32: =M32*$U$2 -> 56.414 | O32: =J32*N32 -> 1.41035 | P32: =F32*O32 -> 193.21795 | Q32: =I32+P32 -> 193.21795
B33: =IF(F33<>"",1+MAX($B$22:B32),"") -> 5 | D33: REMOVE EXISTING CONCRETE LANDING | E33: SF | F33: 118.23 | H33: =G33*$T$2 -> 0 | I33: =F33*H33 -> 0 | J33: 0.025 | K33: =F33*J33 -> 2.95575 | L33: 1 CLAB | M33: 42.1 | N33: =M33*$U$2 -> 56.414 | O33: =J33*N33 -> 1.41035 | P33: =F33*O33 -> 166.74568 | Q33: =I33+P33 -> 166.74568
B34: =IF(F34<>"",1+MAX($B$22:B33),"") -> 6 | D34: REMOVE EXISTING CONCRETE STEPS | E34: EA | F34: 40 | H34: =G34*$T$2 -> 0 | I34: =F34*H34 -> 0 | J34: 0.125 | K34: =F34*J34 -> 5 | L34: 1 CLAB | M34: 42.1 | N34: =M34*$U$2 -> 56.414 | O34: =J34*N34 -> 7.05175 | P34: =F34*O34 -> 282.07 | Q34: =I34+P34 -> 282.07
B35: =IF(F35<>"",1+MAX($B$22:B34),"") -> 7 | D35: REMOVE EXISTING EDGE OF BIT DRIVEWAY | E35: SF | F35: 179.1 | H35: =G35*$T$2 -> 0 | I35: =F35*H35 -> 0 | J35: 0.025 | K35: =F35*J35 -> 4.4775 | L35: 1 CLAB | M35: 42.1 | N35: =M35*$U$2 -> 56.414 | O35: =J35*N35 -> 1.41035 | P35: =F35*O35 -> 252.59369 | Q35: =I35+P35 -> 252.59369
B36: =IF(F36<>"",1+MAX($B$22:B35),"") -> 8 | D36: REMOVE EXISTING TREES | E36: EA | F36: 2 | H36: =G36*$T$2 -> 0 | I36: =F36*H36 -> 0 | J36: 2.425 | K36: =F36*J36 -> 4.85 | L36: 1 CLAB | M36: 42.1 | N36: =M36*$U$2 -> 56.414 | O36: =J36*N36 -> 136.80395 | P36: =F36*O36 -> 273.6079 | Q36: =I36+P36 -> 273.6079
B37: =IF(F37<>"",1+MAX($B$22:B36),"") -> 9 | D37: REMOVE EXISTING 2-STORY WOOD DWELLING UNITS (4 LOC) | E37: CF | F37: =945*22+561*22+732*22+587*22 -> 62150 | H37: =G37*$T$2 -> 0 | I37: =F37*H37 -> 0 | J37: 0.002 | K37: =F37*J37 -> 124.3 | L37: B-8 | M37: 94.03 | N37: =M37*$U$2 -> 126.0002 | O37: =J37*N37 -> 0.2520004 | P37: =F37*O37 -> 15661.825 | Q37: =I37+P37 -> 15661.825
B38: =IF(F38<>"",1+MAX($B$22:B37),"") -> 10 | D38: REMOVE EXISTING SHED AREA: 145 SF | E38: SF | F38: =145 -> 145 | H38: =G38*$T$2 -> 0 | I38: =F38*H38 -> 0 | J38: 3.625 | K38: =F38*J38 -> 525.625 | L38: 1 CLAB | M38: 42.1 | N38: =M38*$U$2 -> 56.414 | O38: =J38*N38 -> 204.50075 | P38: =F38*O38 -> 29652.609 | Q38: =I38+P38 -> 29652.609
B39: =IF(F39<>"",1+MAX($B$22:B38),"") -> 11 | D39: REMOVE EXISTING TRAILER (1 LOC) AREA: 225 SF | E39: SF | F39: 225 | H39: =G39*$T$2 -> 0 | I39: =F39*H39 -> 0 | J39: 5.625 | K39: =F39*J39 -> 1265.625 | L39: 1 CLAB | M39: 42.1 | N39: =M39*$U$2 -> 56.414 | O39: =J39*N39 -> 317.32875 | P39: =F39*O39 -> 71398.969 | Q39: =I39+P39 -> 71398.969
B40: =IF(F40<>"",1+MAX($B$22:B39),"") -> 12 | D40: REMOVE EXISTING DOGHOUSE AREA: 20 SF | E40: CF | F40: =20*10 -> 200 | H40: =G40*$T$2 -> 0 | I40: =F40*H40 -> 0 | J40: 0.5 | K40: =F40*J40 -> 100 | L40: 1 CLAB | M40: 42.1 | N40: =M40*$U$2 -> 56.414 | O40: =J40*N40 -> 28.207 | P40: =F40*O40 -> 5641.4 | Q40: =I40+P40 -> 5641.4
B41: =IF(F41<>"",1+MAX($B$22:B40),"") -> 13 | D41: REMOVE EXISTING CONCRETE BULKHEAD AND STEPS AREA: 36 SF | E41: SF | F41: 36 | H41: =G41*$T$2 -> 0 | I41: =F41*H41 -> 0 | J41: 0.9 | K41: =F41*J41 -> 32.4 | L41: 1 CLAB | M41: 42.1 | N41: =M41*$U$2 -> 56.414 | O41: =J41*N41 -> 50.7726 | P41: =F41*O41 -> 1827.8136 | Q41: =I41+P41 -> 1827.8136
B42: =IF(F42<>"",1+MAX($B$22:B41),"") -> 14 | D42: REMOVE EXISTING CONCRETE DECK AREA: 111 SF | E42: SF | F42: 111 | H42: =G42*$T$2 -> 0 | I42: =F42*H42 -> 0 | J42: 0.065 | K42: =F42*J42 -> 7.215 | L42: 1 CLAB | M42: 42.1 | N42: =M42*$U$2 -> 56.414 | O42: =J42*N42 -> 3.66691 | P42: =F42*O42 -> 407.02701 | Q42: =I42+P42 -> 407.02701
B43: =IF(F43<>"",1+MAX($B$22:B42),"") | H43: =G43*$T$2 -> 0 | I43: =F43*H43 -> 0 | K43: =F43*J43 -> 0 | N43: =M43*$U$2 -> 0 | O43: =J43*N43 -> 0 | P43: =F43*O43 -> 0 | Q43: =I43+P43 -> 0
B44: =IF(F44<>"",1+MAX($B$22:B43),"") | D44: CONSTRUCTION ENTRANCE | H44: =G44*$T$2 -> 0 | I44: =F44*H44 -> 0 | K44: =F44*J44 -> 0 | N44: =M44*$U$2 -> 0 | O44: =J44*N44 -> 0 | P44: =F44*O44 -> 0 | Q44: =I44+P44 -> 0
...
